BEGIN:VCALENDAR
VERSION:2.0
PRODID:-//RIGHTHERE//CALENDARIZE IT V3.2//EN
BEGIN:VTIMEZONE
TZID:America/Hermosillo
END:VTIMEZONE
BEGIN:VEVENT
UID:1290-events@colegioexcelencia.edu.mx
DTSTART;VALUE=DATE:20181024
DTEND;VALUE=DATE:20181024
DTSTAMP;TZID=America/Hermosillo:20180929T112641
SUMMARY:2A-Examen parcial: Matemáticas\, Ed. Socioemocional
URL:https://colegioexcelencia.edu.mx/events/2a-examen-parcial-matematicas-e
 d-socioemocional/
END:VEVENT
END:VCALENDAR