BEGIN:VCALENDAR
VERSION:2.0
PRODID:-//RIGHTHERE//CALENDARIZE IT V3.2//EN
BEGIN:VTIMEZONE
TZID:America/Hermosillo
END:VTIMEZONE
BEGIN:VEVENT
UID:1300-events@colegioexcelencia.edu.mx
DTSTART;VALUE=DATE:20181002
DTEND;VALUE=DATE:20181002
DTSTAMP;TZID=America/Hermosillo:20180929T113320
SUMMARY:2B-Examen parcial: Formación de valores\, Oral expression
URL:https://colegioexcelencia.edu.mx/events/2b-examen-parcial-formacion-de-
 valores-oral-expression/
END:VEVENT
END:VCALENDAR