BEGIN:VCALENDAR
VERSION:2.0
PRODID:-//RIGHTHERE//CALENDARIZE IT V3.2//EN
BEGIN:VTIMEZONE
TZID:America/Hermosillo
END:VTIMEZONE
BEGIN:VEVENT
UID:1303-events@colegioexcelencia.edu.mx
DTSTART;VALUE=DATE:20181009
DTEND;VALUE=DATE:20181009
DTSTAMP;TZID=America/Hermosillo:20180929T113410
SUMMARY:2B-Examen parcial: Grammar
URL:https://colegioexcelencia.edu.mx/events/2b-examen-parcial-grammar-2/
END:VEVENT
END:VCALENDAR