BEGIN:VCALENDAR
VERSION:2.0
PRODID:-//RIGHTHERE//CALENDARIZE IT V3.2//EN
BEGIN:VTIMEZONE
TZID:America/Hermosillo
END:VTIMEZONE
BEGIN:VEVENT
UID:1313-events@colegioexcelencia.edu.mx
DTSTART;VALUE=DATE:20181016
DTEND;VALUE=DATE:20181016
DTSTAMP;TZID=America/Hermosillo:20180929T113856
SUMMARY:2B-Examen parcial: Reading
URL:https://colegioexcelencia.edu.mx/events/2b-examen-parcial-reading-2/
END:VEVENT
END:VCALENDAR