BEGIN:VCALENDAR
VERSION:2.0
PRODID:-//RIGHTHERE//CALENDARIZE IT V3.2//EN
BEGIN:VTIMEZONE
TZID:America/Hermosillo
END:VTIMEZONE
BEGIN:VEVENT
UID:1319-events@colegioexcelencia.edu.mx
DTSTART;VALUE=DATE:20181025
DTEND;VALUE=DATE:20181025
DTSTAMP;TZID=America/Hermosillo:20180929T114154
SUMMARY:2B-Examen parcial: Física\, Formación cívica y ética
URL:https://colegioexcelencia.edu.mx/events/2b-examen-parcial-fisica-formac
 ion-civica-y-etica/
END:VEVENT
END:VCALENDAR