BEGIN:VCALENDAR
VERSION:2.0
PRODID:-//RIGHTHERE//CALENDARIZE IT V3.2//EN
BEGIN:VTIMEZONE
TZID:America/Hermosillo
END:VTIMEZONE
BEGIN:VEVENT
UID:1325-events@colegioexcelencia.edu.mx
DTSTART;VALUE=DATE:20181003
DTEND;VALUE=DATE:20181003
DTSTAMP;TZID=America/Hermosillo:20180929T114547
SUMMARY:3A-Examen parcial: Química\, Formación de valores
URL:https://colegioexcelencia.edu.mx/events/3a-examen-parcial-quimica-forma
 cion-de-valores/
END:VEVENT
END:VCALENDAR