BEGIN:VCALENDAR
VERSION:2.0
PRODID:-//RIGHTHERE//CALENDARIZE IT V3.2//EN
BEGIN:VTIMEZONE
TZID:America/Hermosillo
END:VTIMEZONE
BEGIN:VEVENT
UID:1337-events@colegioexcelencia.edu.mx
DTSTART;VALUE=DATE:20181024
DTEND;VALUE=DATE:20181024
DTSTAMP;TZID=America/Hermosillo:20180929T114950
SUMMARY:3A-Examen parcial: Matemáticas\, Historia
URL:https://colegioexcelencia.edu.mx/events/3a-examen-parcial-matematicas-h
 istoria-2/
END:VEVENT
END:VCALENDAR