BEGIN:VCALENDAR
VERSION:2.0
PRODID:-//RIGHTHERE//CALENDARIZE IT V3.2//EN
BEGIN:VTIMEZONE
TZID:America/Hermosillo
END:VTIMEZONE
BEGIN:VEVENT
UID:1339-events@colegioexcelencia.edu.mx
DTSTART;VALUE=DATE:20181029
DTEND;VALUE=DATE:20181029
DTSTAMP;TZID=America/Hermosillo:20180929T115040
SUMMARY:3A-Examen parcial: Español\, Ed. Socioemocional
URL:https://colegioexcelencia.edu.mx/events/3a-examen-parcial-espanol-ed-so
 cioemocional/
END:VEVENT
END:VCALENDAR