BEGIN:VCALENDAR
VERSION:2.0
PRODID:-//RIGHTHERE//CALENDARIZE IT V3.2//EN
BEGIN:VTIMEZONE
TZID:America/Hermosillo
END:VTIMEZONE
BEGIN:VEVENT
UID:1343-events@colegioexcelencia.edu.mx
DTSTART;VALUE=DATE:20181010
DTEND;VALUE=DATE:20181010
DTSTAMP;TZID=America/Hermosillo:20180929T115342
SUMMARY:3B-Examen parcial: Matemáticas\, Formación de valores
URL:https://colegioexcelencia.edu.mx/events/3b-examen-parcial-matematicas-f
 ormacion-de-valores/
END:VEVENT
END:VCALENDAR