BEGIN:VCALENDAR
VERSION:2.0
PRODID:-//RIGHTHERE//CALENDARIZE IT V3.2//EN
BEGIN:VTIMEZONE
TZID:America/Hermosillo
END:VTIMEZONE
BEGIN:VEVENT
UID:1351-events@colegioexcelencia.edu.mx
DTSTART;VALUE=DATE:20181024
DTEND;VALUE=DATE:20181024
DTSTAMP;TZID=America/Hermosillo:20180929T115639
SUMMARY:3B-Examen parcial: Matemáticas
URL:https://colegioexcelencia.edu.mx/events/3b-examen-parcial-matematicas-3
 /
END:VEVENT
END:VCALENDAR