BEGIN:VCALENDAR
VERSION:2.0
PRODID:-//RIGHTHERE//CALENDARIZE IT V3.2//EN
BEGIN:VTIMEZONE
TZID:America/Hermosillo
END:VTIMEZONE
BEGIN:VEVENT
UID:1524-events@colegioexcelencia.edu.mx
DTSTART;VALUE=DATE:20181105
DTEND;VALUE=DATE:20181105
DTSTAMP;TZID=America/Hermosillo:20181101T142210
SUMMARY:Inicia Teletón Estatal
URL:https://colegioexcelencia.edu.mx/events/inicia-teleton-estatal/
END:VEVENT
END:VCALENDAR