BEGIN:VCALENDAR
VERSION:2.0
PRODID:-//RIGHTHERE//CALENDARIZE IT V3.2//EN
BEGIN:VTIMEZONE
TZID:America/Hermosillo
END:VTIMEZONE
BEGIN:VEVENT
UID:1527-events@colegioexcelencia.edu.mx
DTSTART;VALUE=DATE:20181105
DTEND;VALUE=DATE:20181110
DTSTAMP;TZID=America/Hermosillo:20181101T142626
SUMMARY:Exámenes del Tercer parcial
URL:https://colegioexcelencia.edu.mx/events/examenes-del-tercer-parcial/
END:VEVENT
END:VCALENDAR