BEGIN:VCALENDAR
VERSION:2.0
PRODID:-//RIGHTHERE//CALENDARIZE IT V3.2//EN
BEGIN:VTIMEZONE
TZID:America/Hermosillo
END:VTIMEZONE
BEGIN:VEVENT
UID:1537-events@colegioexcelencia.edu.mx
DTSTART;VALUE=DATE:20181119
DTEND;VALUE=DATE:20181119
DTSTAMP;TZID=America/Hermosillo:20181101T143138
SUMMARY:Suspensión de labores: Día de la Revolución mexicana
URL:https://colegioexcelencia.edu.mx/events/suspension-de-labores-dia-de-la
 -revolucion-mexicana/
END:VEVENT
END:VCALENDAR