BEGIN:VCALENDAR
VERSION:2.0
PRODID:-//RIGHTHERE//CALENDARIZE IT V3.2//EN
BEGIN:VTIMEZONE
TZID:America/Hermosillo
END:VTIMEZONE
BEGIN:VEVENT
UID:1545-events@colegioexcelencia.edu.mx
DTSTART;VALUE=DATE:20181128
DTEND;VALUE=DATE:20181128
DTSTAMP;TZID=America/Hermosillo:20181101T143723
SUMMARY:Enviar a Control escolar Exámenes del cuarto parcial
URL:https://colegioexcelencia.edu.mx/events/enviar-a-control-escolar-examen
 es-del-cuarto-parcial/
END:VEVENT
END:VCALENDAR