BEGIN:VCALENDAR
VERSION:2.0
PRODID:-//RIGHTHERE//CALENDARIZE IT V3.2//EN
BEGIN:VTIMEZONE
TZID:America/Hermosillo
END:VTIMEZONE
BEGIN:VEVENT
UID:1547-events@colegioexcelencia.edu.mx
DTSTART;VALUE=DATE:20181130
DTEND;VALUE=DATE:20181130
DTSTAMP;TZID=America/Hermosillo:20181101T143805
SUMMARY:Fin de clases
URL:https://colegioexcelencia.edu.mx/events/fin-de-clases-2/
END:VEVENT
END:VCALENDAR