BEGIN:VCALENDAR
VERSION:2.0
PRODID:-//RIGHTHERE//CALENDARIZE IT V3.2//EN
BEGIN:VTIMEZONE
TZID:America/Hermosillo
END:VTIMEZONE
BEGIN:VEVENT
UID:1556-events@colegioexcelencia.edu.mx
DTSTART;VALUE=DATE:20181102
DTEND;VALUE=DATE:20181102
DTSTAMP;TZID=America/Hermosillo:20181101T144525
SUMMARY:ASUETO: Día de todos los Santos
URL:https://colegioexcelencia.edu.mx/events/asueto-dia-de-todos-los-santos/
END:VEVENT
END:VCALENDAR