BEGIN:VCALENDAR
VERSION:2.0
PRODID:-//RIGHTHERE//CALENDARIZE IT V3.2//EN
BEGIN:VTIMEZONE
TZID:America/Hermosillo
END:VTIMEZONE
BEGIN:VEVENT
UID:1562-events@colegioexcelencia.edu.mx
DTSTART;VALUE=DATE:20181109
DTEND;VALUE=DATE:20181109
DTSTAMP;TZID=America/Hermosillo:20181101T145304
SUMMARY:Exámenes del Primer trimestre
URL:https://colegioexcelencia.edu.mx/events/examenes-del-primer-trimestre/
END:VEVENT
END:VCALENDAR