BEGIN:VCALENDAR
VERSION:2.0
PRODID:-//RIGHTHERE//CALENDARIZE IT V3.2//EN
BEGIN:VTIMEZONE
TZID:America/Hermosillo
END:VTIMEZONE
BEGIN:VEVENT
UID:1564-events@colegioexcelencia.edu.mx
DTSTART;VALUE=DATE:20181112
DTEND;VALUE=DATE:20181116
DTSTAMP;TZID=America/Hermosillo:20181101T145344
SUMMARY:Exámenes del Primer trimestre
URL:https://colegioexcelencia.edu.mx/events/examenes-del-primer-trimestre-2
 /
END:VEVENT
END:VCALENDAR