BEGIN:VCALENDAR
VERSION:2.0
PRODID:-//RIGHTHERE//CALENDARIZE IT V3.2//EN
BEGIN:VTIMEZONE
TZID:America/Hermosillo
END:VTIMEZONE
BEGIN:VEVENT
UID:1573-events@colegioexcelencia.edu.mx
DTSTART;VALUE=DATE:20181126
DTEND;VALUE=DATE:20181126
DTSTAMP;TZID=America/Hermosillo:20181101T145851
SUMMARY:Honores 2A\, Mtra. Reny
URL:https://colegioexcelencia.edu.mx/events/honores-2a-mtra-reny/
END:VEVENT
END:VCALENDAR