BEGIN:VCALENDAR
VERSION:2.0
PRODID:-//RIGHTHERE//CALENDARIZE IT V3.2//EN
BEGIN:VTIMEZONE
TZID:America/Hermosillo
END:VTIMEZONE
BEGIN:VEVENT
UID:1575-events@colegioexcelencia.edu.mx
DTSTART;TZID=America/Hermosillo:20181128T183000
DTEND;TZID=America/Hermosillo:20181128T000000
DTSTAMP;TZID=America/Hermosillo:20181101T145958
SUMMARY:Junta de Padres de familia\, entrega de boletas
URL:https://colegioexcelencia.edu.mx/events/junta-de-padres-de-familia-entr
 ega-de-boletas/
END:VEVENT
END:VCALENDAR