BEGIN:VCALENDAR
VERSION:2.0
PRODID:-//RIGHTHERE//CALENDARIZE IT V3.2//EN
BEGIN:VTIMEZONE
TZID:America/Hermosillo
END:VTIMEZONE
BEGIN:VEVENT
UID:1577-events@colegioexcelencia.edu.mx
DTSTART;VALUE=DATE:20181130
DTEND;VALUE=DATE:20181130
DTSTAMP;TZID=America/Hermosillo:20181101T150106
SUMMARY:3er. CTE ordinario
URL:https://colegioexcelencia.edu.mx/events/3er-cte-ordinario/
END:VEVENT
END:VCALENDAR