BEGIN:VCALENDAR
VERSION:2.0
PRODID:-//RIGHTHERE//CALENDARIZE IT V3.2//EN
BEGIN:VTIMEZONE
TZID:America/Hermosillo
END:VTIMEZONE
BEGIN:VEVENT
UID:593-events@colegioexcelencia.edu.mx
DTSTART;TZID=America/Hermosillo:20180613T114000
DTEND;TZID=America/Hermosillo:20180613T134000
DTSTAMP;TZID=America/Hermosillo:20180601T132451
SUMMARY:Exámenes del quinto bimestre\, grupo 2A
DESCRIPTION:Inteligencia Emocional 2\, 11:40 – 12:30. Matemáticas 2\, 12
 :50 – 1:40.
URL:https://colegioexcelencia.edu.mx/events/examenes-del-quinto-bimestre-gr
 upo-2a-4/
END:VEVENT
END:VCALENDAR