BEGIN:VCALENDAR
VERSION:2.0
PRODID:-//RIGHTHERE//CALENDARIZE IT V3.2//EN
BEGIN:VTIMEZONE
TZID:America/Hermosillo
END:VTIMEZONE
BEGIN:VEVENT
UID:595-events@colegioexcelencia.edu.mx
DTSTART;TZID=America/Hermosillo:20180613T075000
DTEND;TZID=America/Hermosillo:20180613T134000
DTSTAMP;TZID=America/Hermosillo:20180601T132529
SUMMARY:Exámenes del quinto bimestre\, grupo 2B
DESCRIPTION:Danza\, 7:50 – 8:40. Matemáticas 2\, 10:50 – 1:40.
URL:https://colegioexcelencia.edu.mx/events/examenes-del-quinto-bimestre-gr
 upo-2b-4/
END:VEVENT
END:VCALENDAR