BEGIN:VCALENDAR
VERSION:2.0
PRODID:-//RIGHTHERE//CALENDARIZE IT V3.2//EN
BEGIN:VTIMEZONE
TZID:America/Hermosillo
END:VTIMEZONE
BEGIN:VEVENT
UID:597-events@colegioexcelencia.edu.mx
DTSTART;TZID=America/Hermosillo:20180614T075000
DTEND;TZID=America/Hermosillo:20180614T143000
DTSTAMP;TZID=America/Hermosillo:20180601T132620
SUMMARY:Exámenes del quinto bimestre\, grupo 1A
DESCRIPTION:Matemáticas 1\, 7:50 – 8:40. Inteligencia Emocional 1\, 1:40
 – 2:30.
URL:https://colegioexcelencia.edu.mx/events/examenes-del-quinto-bimestre-gr
 upo-1a-5/
END:VEVENT
END:VCALENDAR