BEGIN:VCALENDAR
VERSION:2.0
PRODID:-//RIGHTHERE//CALENDARIZE IT V3.2//EN
BEGIN:VTIMEZONE
TZID:America/Hermosillo
END:VTIMEZONE
BEGIN:VEVENT
UID:601-events@colegioexcelencia.edu.mx
DTSTART;TZID=America/Hermosillo:20180614T070000
DTEND;TZID=America/Hermosillo:20180614T123000
DTSTAMP;TZID=America/Hermosillo:20180601T132722
SUMMARY:ExÃ¡menes del quinto bimestre\, grupo 1C
DESCRIPTION:EducaciÃ³n FÃ­sica 1\, 7:00 â€“ 7:50. MatemÃ¡ticas 1\, 11:40 â€
 “ 12:30.
URL:https://colegioexcelencia.edu.mx/events/examenes-del-quinto-bimestre-gr
 upo-1c-5/
END:VEVENT
END:VCALENDAR