BEGIN:VCALENDAR
VERSION:2.0
PRODID:-//RIGHTHERE//CALENDARIZE IT V3.2//EN
BEGIN:VTIMEZONE
TZID:America/Hermosillo
END:VTIMEZONE
BEGIN:VEVENT
UID:603-events@colegioexcelencia.edu.mx
DTSTART;TZID=America/Hermosillo:20180614T070000
DTEND;TZID=America/Hermosillo:20180614T093000
DTSTAMP;TZID=America/Hermosillo:20180601T132754
SUMMARY:Exámenes del quinto bimestre\, grupo 2A
DESCRIPTION:Español 2\, 7:00 – 7:50. Danza\, 8:40 – 9:30.
URL:https://colegioexcelencia.edu.mx/events/examenes-del-quinto-bimestre-gr
 upo-2a-5/
END:VEVENT
END:VCALENDAR