BEGIN:VCALENDAR
VERSION:2.0
PRODID:-//RIGHTHERE//CALENDARIZE IT V3.2//EN
BEGIN:VTIMEZONE
TZID:America/Hermosillo
END:VTIMEZONE
BEGIN:VEVENT
UID:607-events@colegioexcelencia.edu.mx
DTSTART;TZID=America/Hermosillo:20180611T070000
DTEND;TZID=America/Hermosillo:20180611T000000
DTSTAMP;TZID=America/Hermosillo:20180601T132910
SUMMARY:Honores\, grupo 1A\, Mtra. Gloria
URL:https://colegioexcelencia.edu.mx/events/honores-grupo-1a-mtra-gloria/
END:VEVENT
END:VCALENDAR