BEGIN:VCALENDAR
VERSION:2.0
PRODID:-//RIGHTHERE//CALENDARIZE IT V3.2//EN
BEGIN:VTIMEZONE
TZID:America/Hermosillo
END:VTIMEZONE
BEGIN:VEVENT
UID:609-events@colegioexcelencia.edu.mx
DTSTART;TZID=America/Hermosillo:20180614T070000
DTEND;TZID=America/Hermosillo:20180614T000000
DTSTAMP;TZID=America/Hermosillo:20180601T132932
SUMMARY:Cierre de materias de Educación física
URL:https://colegioexcelencia.edu.mx/events/cierre-de-materias-de-educacion
 -fisica/
END:VEVENT
END:VCALENDAR