BEGIN:VCALENDAR
VERSION:2.0
PRODID:-//RIGHTHERE//CALENDARIZE IT V3.2//EN
BEGIN:VTIMEZONE
TZID:America/Hermosillo
END:VTIMEZONE
BEGIN:VEVENT
UID:625-events@colegioexcelencia.edu.mx
DTSTART;VALUE=DATE:20180627
DTEND;VALUE=DATE:20180627
DTSTAMP;TZID=America/Hermosillo:20180601T133246
SUMMARY:Graduación
URL:https://colegioexcelencia.edu.mx/events/graduacion/
END:VEVENT
END:VCALENDAR