BEGIN:VCALENDAR
VERSION:2.0
PRODID:-//RIGHTHERE//CALENDARIZE IT V3.2//EN
BEGIN:VTIMEZONE
TZID:America/Hermosillo
END:VTIMEZONE
BEGIN:VEVENT
UID:631-events@colegioexcelencia.edu.mx
DTSTART;TZID=America/Hermosillo:20180612T170000
DTEND;TZID=America/Hermosillo:20180612T190000
DTSTAMP;TZID=America/Hermosillo:20180601T133526
SUMMARY:Graduación
DESCRIPTION:5:00 Misa. Iglesia Señor de los Milagros. 7:00 Evento académi
 co. Auditorio del Sindicato del Seguro Social.
URL:https://colegioexcelencia.edu.mx/events/graduacion-2/
END:VEVENT
END:VCALENDAR