BEGIN:VCALENDAR
VERSION:2.0
PRODID:-//RIGHTHERE//CALENDARIZE IT V3.2//EN
BEGIN:VTIMEZONE
TZID:America/Hermosillo
END:VTIMEZONE
BEGIN:VEVENT
UID:633-events@colegioexcelencia.edu.mx
DTSTART;VALUE=DATE:20180713
DTEND;VALUE=DATE:20180713
DTSTAMP;TZID=America/Hermosillo:20180601T133609
SUMMARY:Finaliza curso de verano
URL:https://colegioexcelencia.edu.mx/events/finaliza-curso-de-verano/
END:VEVENT
END:VCALENDAR