BEGIN:VCALENDAR
VERSION:2.0
PRODID:-//RIGHTHERE//CALENDARIZE IT V3.2//EN
BEGIN:VTIMEZONE
TZID:America/Hermosillo
END:VTIMEZONE
BEGIN:VEVENT
UID:713-events@colegioexcelencia.edu.mx
DTSTART;VALUE=DATE:20180806
DTEND;VALUE=DATE:20180811
DTSTAMP;TZID=America/Hermosillo:20180803T160638
SUMMARY:Semana Nacional de Actualización
URL:https://colegioexcelencia.edu.mx/events/semana-nacional-de-actualizacio
 n/
END:VEVENT
END:VCALENDAR