BEGIN:VCALENDAR
VERSION:2.0
PRODID:-//RIGHTHERE//CALENDARIZE IT V3.2//EN
BEGIN:VTIMEZONE
TZID:America/Hermosillo
END:VTIMEZONE
BEGIN:VEVENT
UID:719-events@colegioexcelencia.edu.mx
DTSTART;VALUE=DATE:20180820
DTEND;VALUE=DATE:20180824
DTSTAMP;TZID=America/Hermosillo:20180803T161030
SUMMARY:Exámenes diagnóstico
URL:https://colegioexcelencia.edu.mx/events/examenes-diagnostico/
END:VEVENT
END:VCALENDAR