BEGIN:VCALENDAR
VERSION:2.0
PRODID:-//RIGHTHERE//CALENDARIZE IT V3.2//EN
BEGIN:VTIMEZONE
TZID:America/Hermosillo
END:VTIMEZONE
BEGIN:VEVENT
UID:725-events@colegioexcelencia.edu.mx
DTSTART;VALUE=DATE:20180829
DTEND;VALUE=DATE:20180829
DTSTAMP;TZID=America/Hermosillo:20180803T161133
SUMMARY:Resultados de Exámenes diagnóstico
URL:https://colegioexcelencia.edu.mx/events/resultados-de-examenes-diagnost
 ico/
END:VEVENT
END:VCALENDAR