BEGIN:VCALENDAR
VERSION:2.0
PRODID:-//RIGHTHERE//CALENDARIZE IT V3.2//EN
BEGIN:VTIMEZONE
TZID:America/Hermosillo
END:VTIMEZONE
BEGIN:VEVENT
UID:727-events@colegioexcelencia.edu.mx
DTSTART;TZID=America/Hermosillo:20180830T183000
DTEND;TZID=America/Hermosillo:20180830T000000
DTSTAMP;TZID=America/Hermosillo:20180803T161242
SUMMARY:Junta de Padres de Familia: Inicio de clases
URL:https://colegioexcelencia.edu.mx/events/junta-de-padres-de-familia-inic
 io-de-clases/
END:VEVENT
END:VCALENDAR