BEGIN:VCALENDAR
VERSION:2.0
PRODID:-//RIGHTHERE//CALENDARIZE IT V3.2//EN
BEGIN:VTIMEZONE
TZID:America/Hermosillo
END:VTIMEZONE
BEGIN:VEVENT
UID:730-events@colegioexcelencia.edu.mx
DTSTART;VALUE=DATE:20180806
DTEND;VALUE=DATE:20180811
DTSTAMP;TZID=America/Hermosillo:20180803T161708
SUMMARY:Cursos de inducción: Para alumnos de nuevo ingreso de todos los se
 mestres
URL:https://colegioexcelencia.edu.mx/events/cursos-de-induccion-para-alumno
 s-de-nuevo-ingreso-de-todos-los-semestres/
END:VEVENT
END:VCALENDAR