BEGIN:VCALENDAR
VERSION:2.0
PRODID:-//RIGHTHERE//CALENDARIZE IT V3.2//EN
BEGIN:VTIMEZONE
TZID:America/Hermosillo
END:VTIMEZONE
BEGIN:VEVENT
UID:732-events@colegioexcelencia.edu.mx
DTSTART;VALUE=DATE:20180806
DTEND;VALUE=DATE:20180811
DTSTAMP;TZID=America/Hermosillo:20180803T161752
SUMMARY:Cursos de capacitación docente
URL:https://colegioexcelencia.edu.mx/events/cursos-de-capacitacion-docente/
END:VEVENT
END:VCALENDAR