BEGIN:VCALENDAR
VERSION:2.0
PRODID:-//RIGHTHERE//CALENDARIZE IT V3.2//EN
BEGIN:VTIMEZONE
TZID:America/Hermosillo
END:VTIMEZONE
BEGIN:VEVENT
UID:734-events@colegioexcelencia.edu.mx
DTSTART;VALUE=DATE:20180813
DTEND;VALUE=DATE:20180813
DTSTAMP;TZID=America/Hermosillo:20180803T161815
SUMMARY:Inicio de clases
URL:https://colegioexcelencia.edu.mx/events/inicio-de-clases-2/
END:VEVENT
END:VCALENDAR