BEGIN:VCALENDAR
VERSION:2.0
PRODID:-//RIGHTHERE//CALENDARIZE IT V3.2//EN
BEGIN:VTIMEZONE
TZID:America/Hermosillo
END:VTIMEZONE
BEGIN:VEVENT
UID:736-events@colegioexcelencia.edu.mx
DTSTART;VALUE=DATE:20180813
DTEND;VALUE=DATE:20180818
DTSTAMP;TZID=America/Hermosillo:20180803T161926
SUMMARY:Exámenes diagnóstico
URL:https://colegioexcelencia.edu.mx/events/examenes-diagnostico-2/
END:VEVENT
END:VCALENDAR