BEGIN:VCALENDAR
VERSION:2.0
PRODID:-//RIGHTHERE//CALENDARIZE IT V3.2//EN
BEGIN:VTIMEZONE
TZID:America/Hermosillo
END:VTIMEZONE
BEGIN:VEVENT
UID:738-events@colegioexcelencia.edu.mx
DTSTART;VALUE=DATE:20180817
DTEND;VALUE=DATE:20180817
DTSTAMP;TZID=America/Hermosillo:20180803T162436
SUMMARY:Entrega de Planeación semestral
URL:https://colegioexcelencia.edu.mx/events/entrega-de-planeacion-semestral
 /
END:VEVENT
END:VCALENDAR