BEGIN:VCALENDAR
VERSION:2.0
PRODID:-//RIGHTHERE//CALENDARIZE IT V3.2//EN
BEGIN:VTIMEZONE
TZID:America/Hermosillo
END:VTIMEZONE
BEGIN:VEVENT
UID:740-events@colegioexcelencia.edu.mx
DTSTART;VALUE=DATE:20180817
DTEND;VALUE=DATE:20180817
DTSTAMP;TZID=America/Hermosillo:20180803T162512
SUMMARY:Entrega de Resultados de exámenes diagnóstico
URL:https://colegioexcelencia.edu.mx/events/entrega-de-resultados-de-examen
 es-diagnostico/
END:VEVENT
END:VCALENDAR