BEGIN:VCALENDAR
VERSION:2.0
PRODID:-//RIGHTHERE//CALENDARIZE IT V3.2//EN
BEGIN:VTIMEZONE
TZID:America/Hermosillo
END:VTIMEZONE
BEGIN:VEVENT
UID:742-events@colegioexcelencia.edu.mx
DTSTART;VALUE=DATE:20180823
DTEND;VALUE=DATE:20180823
DTSTAMP;TZID=America/Hermosillo:20180803T162644
SUMMARY:Albercada: Festejo de bienvenida
URL:https://colegioexcelencia.edu.mx/events/albercada-festejo-de-bienvenida
 -2/
END:VEVENT
END:VCALENDAR