BEGIN:VCALENDAR
VERSION:2.0
PRODID:-//RIGHTHERE//CALENDARIZE IT V3.2//EN
BEGIN:VTIMEZONE
TZID:America/Hermosillo
END:VTIMEZONE
BEGIN:VEVENT
UID:744-events@colegioexcelencia.edu.mx
DTSTART;VALUE=DATE:20180827
DTEND;VALUE=DATE:20180827
DTSTAMP;TZID=America/Hermosillo:20180803T162708
SUMMARY:Convocatoria de Spelling Bee
URL:https://colegioexcelencia.edu.mx/events/convocatoria-de-spelling-bee/
END:VEVENT
END:VCALENDAR